BEGIN:VCALENDAR
VERSION:2.0
CALSCALE:GREGORIAN
METHOD:PUBLISH
X-WR-TIMEZONE:Australia/Sydney
BEGIN:VTIMEZONE
TZID:Australia/Sydney
BEGIN:STANDARD
TZNAME:AEST
DTSTART:19700101T000000
TZOFFSETFROM:+1100
TZOFFSETTO:+1000
END:STANDARD
END:VTIMEZONE
BEGIN:VEVENT
DTSTART;TZID=Australia/Sydney:20220820
DTEND;TZID=Australia/Sydney:20220820
DTSTAMP:20260423T023233
UID:18
SUMMARY:2022 Book Week
DESCRIPTION:




Each year since 1945 the CBCA&amp;nbsp;has brought children and books together across Australia through&amp;nbsp;CBCA Book Week. During this time schools and public libraries spend one glorious week celebrating books and Australian children&#039;s authors and illustrators.


SEQUENCE:0
STATUS:CONFIRMED
TRANSP:OPAQUE
END:VEVENT
END:VCALENDAR